BEGIN:VCALENDAR
VERSION:2.0
PRODID:-//芸能サークル TableJam - ECPv6.15.20//NONSGML v1.0//EN
CALSCALE:GREGORIAN
METHOD:PUBLISH
X-WR-CALNAME:芸能サークル TableJam
X-ORIGINAL-URL:https://tablejam.jp
X-WR-CALDESC:芸能サークル TableJam のイベント
REFRESH-INTERVAL;VALUE=DURATION:PT1H
X-Robots-Tag:noindex
X-PUBLISHED-TTL:PT1H
BEGIN:VTIMEZONE
TZID:Asia/Tokyo
BEGIN:STANDARD
TZOFFSETFROM:+0900
TZOFFSETTO:+0900
TZNAME:JST
DTSTART:20250101T000000
END:STANDARD
END:VTIMEZONE
BEGIN:VEVENT
DTSTART;TZID=Asia/Tokyo:20260404T173000
DTEND;TZID=Asia/Tokyo:20260404T183000
DTSTAMP:20260423T043027
CREATED:20260106T100806Z
LAST-MODIFIED:20260304T103026Z
UID:421-1775323800-1775327400@tablejam.jp
SUMMARY:TableShot 開催 4/4 1部（17:30スタート）
DESCRIPTION:＜福岡在学の芸能志向者、集う＞ \nキャスティングイベントTableShot開催！ \nイベント内容：短編映画制作ポエフィの１シーンを再現します。２人１組となり、演技リハーサル。ローテーション形式で多くの参加者と共演。記念撮影も可能です。共演後はサイン帳にサイン、記念の印を集めよう。 \n\n参加料：3300円（おひとり様）\n開催条件：６名以上で開催決定！（上限の予定：30名程度）\n開催フラグ受付期間：２月１日（日）am0:00まで\n\n 
URL:https://tablejam.jp/event/tableshot-250207-1/
LOCATION:撮影会会場\, 天神地区\, 福岡市中央区\, 福岡県\, 810-0001\, Japan
CATEGORIES:TableShot
END:VEVENT
END:VCALENDAR